BEGIN:VCALENDAR
VERSION:2.0
PRODID:-//Willingdon Home and School - ECPv6.15.18//NONSGML v1.0//EN
CALSCALE:GREGORIAN
METHOD:PUBLISH
X-WR-CALNAME:Willingdon Home and School
X-ORIGINAL-URL:https://willingdonhomeandschool.ca
X-WR-CALDESC:Events for Willingdon Home and School
REFRESH-INTERVAL;VALUE=DURATION:PT1H
X-Robots-Tag:noindex
X-PUBLISHED-TTL:PT1H
BEGIN:VTIMEZONE
TZID:America/Toronto
BEGIN:DAYLIGHT
TZOFFSETFROM:-0500
TZOFFSETTO:-0400
TZNAME:EDT
DTSTART:20230312T070000
END:DAYLIGHT
BEGIN:STANDARD
TZOFFSETFROM:-0400
TZOFFSETTO:-0500
TZNAME:EST
DTSTART:20231105T060000
END:STANDARD
BEGIN:DAYLIGHT
TZOFFSETFROM:-0500
TZOFFSETTO:-0400
TZNAME:EDT
DTSTART:20240310T070000
END:DAYLIGHT
BEGIN:STANDARD
TZOFFSETFROM:-0400
TZOFFSETTO:-0500
TZNAME:EST
DTSTART:20241103T060000
END:STANDARD
BEGIN:DAYLIGHT
TZOFFSETFROM:-0500
TZOFFSETTO:-0400
TZNAME:EDT
DTSTART:20250309T070000
END:DAYLIGHT
BEGIN:STANDARD
TZOFFSETFROM:-0400
TZOFFSETTO:-0500
TZNAME:EST
DTSTART:20251102T060000
END:STANDARD
END:VTIMEZONE
BEGIN:VEVENT
DTSTART;TZID=America/Toronto:20241017T190000
DTEND;TZID=America/Toronto:20241017T200000
DTSTAMP:20260421T070313
CREATED:20241008T224358Z
LAST-MODIFIED:20250917T023520Z
UID:18317-1729191600-1729195200@willingdonhomeandschool.ca
SUMMARY:First Grad Committee Meeting
DESCRIPTION:Willingdon Film Festival now has a YouTube channel. Check it out https://www.youtube.com/@WillingdonFilmFestival read more… \n\n\n\n\n\nSubmit your short films (1-3 min) to be featured on the big screen. Work solo or with friends\, all ages welcome to participate! Submission Deadline: MARCH 8. Screening April 17 @ Senior Campus read more… \n\n\n\n\n\nAs part of Teacher & Staff Appreciation Week\, we’re inviting families to share a short message of appreciation for our amazing Willingdon staff — from parents or in your child’s own words. We’re also hosting our annual potluck lunch Thursday\, Feb 12 for Willingdon staff\, and we’d love your help to make it delicious. Families are invited to sign up to contribute a dish. read more…
URL:https://willingdonhomeandschool.ca/event/first-grad-committee-meeting/
CATEGORIES:Deadline
ATTACH;FMTTYPE=image/png:https://willingdonhomeandschool.ca/wp-content/uploads/2024/10/grad-committee-meeting.png
END:VEVENT
END:VCALENDAR