BEGIN:VCALENDAR
VERSION:2.0
PRODID:-//Willingdon Home and School - ECPv6.15.18//NONSGML v1.0//EN
CALSCALE:GREGORIAN
METHOD:PUBLISH
X-WR-CALNAME:Willingdon Home and School
X-ORIGINAL-URL:https://willingdonhomeandschool.ca
X-WR-CALDESC:Events for Willingdon Home and School
REFRESH-INTERVAL;VALUE=DURATION:PT1H
X-Robots-Tag:noindex
X-PUBLISHED-TTL:PT1H
BEGIN:VTIMEZONE
TZID:America/Toronto
BEGIN:DAYLIGHT
TZOFFSETFROM:-0500
TZOFFSETTO:-0400
TZNAME:EDT
DTSTART:20230312T070000
END:DAYLIGHT
BEGIN:STANDARD
TZOFFSETFROM:-0400
TZOFFSETTO:-0500
TZNAME:EST
DTSTART:20231105T060000
END:STANDARD
BEGIN:DAYLIGHT
TZOFFSETFROM:-0500
TZOFFSETTO:-0400
TZNAME:EDT
DTSTART:20240310T070000
END:DAYLIGHT
BEGIN:STANDARD
TZOFFSETFROM:-0400
TZOFFSETTO:-0500
TZNAME:EST
DTSTART:20241103T060000
END:STANDARD
BEGIN:DAYLIGHT
TZOFFSETFROM:-0500
TZOFFSETTO:-0400
TZNAME:EDT
DTSTART:20250309T070000
END:DAYLIGHT
BEGIN:STANDARD
TZOFFSETFROM:-0400
TZOFFSETTO:-0500
TZNAME:EST
DTSTART:20251102T060000
END:STANDARD
END:VTIMEZONE
BEGIN:VEVENT
DTSTART;TZID=America/Toronto:20241021T000000
DTEND;TZID=America/Toronto:20241025T235959
DTSTAMP:20260420T190858
CREATED:20240923T180427Z
LAST-MODIFIED:20250916T193448Z
UID:17371-1729468800-1729900799@willingdonhomeandschool.ca
SUMMARY:Food Drive to benefit Carolyn's Community
DESCRIPTION:Both Campuses \n\n\n\n\n\n\n\n\n\n\n\nIt’s time to show that Willingdon community spirit! Because when compassion and community connect\, real change happens. So\, let’s come together to donate non-perishables\, to be collected and distributed by Carolyn’s Community. \n\n\n\nWhat do I bring?\n\n\n\nHere are some suggestions for items to donate. Please try to keep in mind that a wider variety of healthy items is always best. \n\n\n\n\nCanned goods (fish\, fruits\, vegetables\, beans\, soups\, broths\, etc.)\n\n\n\nDry foods (pasta\, rice\, quinoa\, couscous\, flour\, sugar and other baking ingredients\, breakfast cereal\, oatmeal\, etc.)\n\n\n\nPantry items (pasta sauce\, tomato paste\, vegetable oil\, olive oil\, vinegar\, peanut butter\, salt\, pepper\, spices\, etc.)\n\n\n\nPeanut-free lunch snacks (crackers\, granola bars\, cookies\, pudding\, etc.)\n\n\n\nBaby food (cereals\, crackers\, pouched purées\, etc.)\n\n\n\nStaples (tea\, coffee\, condiments like ketchup and mayo\, etc.)\n\n\n\n\n \n\n\n\nWhy is this important?\n\n\n\nThe food drive is an excellent opportunity to teach our kids about food insecurity — and not just globally but right here in our own community. There will be visual trackers to measure how much we’ve collected around the school so that students can track our collective progress and to encourage them to get involved in giving back locally.Collection boxes will be at both Junior and Senior campuses every day for your kids to drop off donations. \n\n\n\nPlease give generously\, if you can.Carolyn Bouchard
URL:https://willingdonhomeandschool.ca/event/food-drive-oct24/
CATEGORIES:Food Drive
ATTACH;FMTTYPE=image/jpeg:https://willingdonhomeandschool.ca/wp-content/uploads/2024/09/24-food-drive2-web-min.jpg
END:VEVENT
BEGIN:VEVENT
DTSTART;TZID=America/Toronto:20241025T090000
DTEND;TZID=America/Toronto:20241025T160000
DTSTAMP:20260420T190858
CREATED:20241009T011333Z
LAST-MODIFIED:20250916T193439Z
UID:18338-1729846800-1729872000@willingdonhomeandschool.ca
SUMMARY:Photo Day
DESCRIPTION:Photo Day is right around the corner! We are looking for 6 volunteers to help at JUNIOR campus\, and 4 at SENIOR campus\, 9am – 3pm on October 25th.
URL:https://willingdonhomeandschool.ca/event/photo-day/
CATEGORIES:Home & School event,School Activity
ATTACH;FMTTYPE=image/jpeg:https://willingdonhomeandschool.ca/wp-content/uploads/2024/10/volunteer-we-need-you.jpg
END:VEVENT
END:VCALENDAR